BEGIN:VCALENDAR
PRODID:-//AT Content Types//AT Event//EN
VERSION:2.0
METHOD:PUBLISH
BEGIN:VEVENT
DTSTAMP:20260423T191948Z
CREATED:20241111T152418Z
UID:ATEvent-cca7d88541ff4ec78c816296f8bfd311
LAST-MODIFIED:20241125T152341Z
SUMMARY:Law Commission Consultation on Business Tenancies - Online Event
DTSTART:20241209T120000Z
DTEND:20241209T130000Z
DESCRIPTION:Attend this virtual event to hear about the first consulta
 tion paper on business tenancies\, focussing on models of reform of th
 e 1954 Act. Register here: https://www.eventbrite.co.uk/e/107918332938
 9?aff=oddtdtcreator
CLASS:PUBLIC
END:VEVENT
END:VCALENDAR
