BEGIN:VCALENDAR
PRODID:-//AT Content Types//AT Event//EN
VERSION:2.0
METHOD:PUBLISH
BEGIN:VEVENT
DTSTAMP:20260423T191942Z
CREATED:20241111T152418Z
UID:ATEvent-3cde8f1098734e18a49586004d0502ef
LAST-MODIFIED:20241125T152341Z
SUMMARY:In-person events
DTSTART:20241119T000000Z
DTEND:20250219T000000Z
DESCRIPTION:Please see our website for details of our in-person events
 : https://lawcom.gov.uk/project/business-tenancies-the-right-to-renew/
 .
CLASS:PUBLIC
END:VEVENT
END:VCALENDAR
